BEGIN:VCALENDAR
VERSION:2.0
PRODID:-//Jewel Envy - ECPv6.15.20//NONSGML v1.0//EN
CALSCALE:GREGORIAN
METHOD:PUBLISH
X-WR-CALNAME:Jewel Envy
X-ORIGINAL-URL:https://www.jewelenvy.ca
X-WR-CALDESC:Events for Jewel Envy
REFRESH-INTERVAL;VALUE=DURATION:PT1H
X-Robots-Tag:noindex
X-PUBLISHED-TTL:PT1H
BEGIN:VTIMEZONE
TZID:UTC
BEGIN:STANDARD
TZOFFSETFROM:+0000
TZOFFSETTO:+0000
TZNAME:UTC
DTSTART:20230101T000000
END:STANDARD
END:VTIMEZONE
BEGIN:VEVENT
DTSTART;TZID=UTC:20240825T120000
DTEND;TZID=UTC:20240825T150000
DTSTAMP:20260419T202522
CREATED:20240627T020839Z
LAST-MODIFIED:20240627T022706Z
UID:13570-1724587200-1724598000@www.jewelenvy.ca
SUMMARY:Class Amnesty Day Sunday August 25th 12pm-3pm
DESCRIPTION:This is a 3 hour period to finish up any project you started in a class at Jewel Envy. There is a fee of $5 that is non-refundable but can be applied towards any class materials. To apply it to class materials be sure to keep the physical receipt given to you on the day. If you do not show up for your booked time you forfeit the material coupon.
URL:https://www.jewelenvy.ca/class/class-amnesty-day-12pm-3pm-2/
LOCATION:Jewel Envy\, 151 Marion St\, Toronto\, Ontario\, M6R 1E6\, Canada
CATEGORIES:Classes,RSVP
ORGANIZER;CN="Jewel Envy":MAILTO:info@jewelenvy.ca
END:VEVENT
BEGIN:VEVENT
DTSTART;TZID=UTC:20240825T150000
DTEND;TZID=UTC:20240825T180000
DTSTAMP:20260419T202522
CREATED:20240627T022241Z
LAST-MODIFIED:20240627T022643Z
UID:13573-1724598000-1724608800@www.jewelenvy.ca
SUMMARY:Class Amnesty Day Sunday August 25th 3pm-6pm
DESCRIPTION:This is a 3 hour period to finish up any project you started in a class at Jewel Envy. There is a fee of $5 that is non-refundable but can be applied towards any class materials. To apply it to class materials be sure to keep the physical receipt given to you on the day. If you do not show up for your booked time you forfeit the material coupon.
URL:https://www.jewelenvy.ca/class/class-amnesty-day-3pm-6pm-2/
LOCATION:Jewel Envy\, 151 Marion St\, Toronto\, Ontario\, M6R 1E6\, Canada
CATEGORIES:Classes,RSVP
ORGANIZER;CN="Jewel Envy":MAILTO:info@jewelenvy.ca
END:VEVENT
END:VCALENDAR