BEGIN:VCALENDAR
VERSION:2.0
PRODID:-//Jewel Envy - ECPv6.15.20//NONSGML v1.0//EN
CALSCALE:GREGORIAN
METHOD:PUBLISH
X-ORIGINAL-URL:https://www.jewelenvy.ca
X-WR-CALDESC:Events for Jewel Envy
REFRESH-INTERVAL;VALUE=DURATION:PT1H
X-Robots-Tag:noindex
X-PUBLISHED-TTL:PT1H
BEGIN:VTIMEZONE
TZID:UTC
BEGIN:STANDARD
TZOFFSETFROM:+0000
TZOFFSETTO:+0000
TZNAME:UTC
DTSTART:20250101T000000
END:STANDARD
END:VTIMEZONE
BEGIN:VEVENT
DTSTART;TZID=UTC:20260307T100000
DTEND;TZID=UTC:20260307T180000
DTSTAMP:20260421T142300
CREATED:20260124T174856Z
LAST-MODIFIED:20260209T191407Z
UID:15509-1772877600-1772906400@www.jewelenvy.ca
SUMMARY:1 Day Stacking Ring Workshop Saturday March 7th\, 2026
DESCRIPTION:
URL:https://www.jewelenvy.ca/class/1-day-stacking-ring-workshop-saturday-march-7th-2026/
LOCATION:Jewel Envy\, 151 Marion St\, Toronto\, Ontario\, M6R 1E6\, Canada
CATEGORIES:Workshop,Classes
ORGANIZER;CN="Jewel Envy":MAILTO:info@jewelenvy.ca
END:VEVENT
BEGIN:VEVENT
DTSTART;TZID=UTC:20260308T100000
DTEND;TZID=UTC:20260308T180000
DTSTAMP:20260421T142300
CREATED:20260124T172327Z
LAST-MODIFIED:20260124T172327Z
UID:15490-1772964000-1772992800@www.jewelenvy.ca
SUMMARY:1 Day Band Ring Workshop Sunday March 8th\, 2026
DESCRIPTION:
URL:https://www.jewelenvy.ca/class/1-day-band-ring-workshop-sunday-march-8th-2026/
LOCATION:Jewel Envy\, 151 Marion St\, Toronto\, Ontario\, M6R 1E6\, Canada
CATEGORIES:Workshop,Classes
ORGANIZER;CN="Jewel Envy":MAILTO:info@jewelenvy.ca
END:VEVENT
BEGIN:VEVENT
DTSTART;TZID=UTC:20260314T100000
DTEND;TZID=UTC:20260314T180000
DTSTAMP:20260421T142300
CREATED:20260227T200840Z
LAST-MODIFIED:20260306T231442Z
UID:15633-1773482400-1773511200@www.jewelenvy.ca
SUMMARY:2 Day Casting Workshop Saturday March 14th and Sunday March 22nd\, 2026
DESCRIPTION:
URL:https://www.jewelenvy.ca/class/2-day-casting-workshop-sunday-march-14th-and-sunday-march-22nd-2026/
LOCATION:Jewel Envy\, 151 Marion St\, Toronto\, Ontario\, M6R 1E6\, Canada
CATEGORIES:Workshop,Classes
ORGANIZER;CN="Jewel Envy":MAILTO:info@jewelenvy.ca
END:VEVENT
BEGIN:VEVENT
DTSTART;TZID=UTC:20260322T100000
DTEND;TZID=UTC:20260322T180000
DTSTAMP:20260421T142300
CREATED:20260227T200947Z
LAST-MODIFIED:20260306T231241Z
UID:15636-1774173600-1774202400@www.jewelenvy.ca
SUMMARY:2 Day Casting Workshop Saturday March 14th and Sunday March 22nd\, 2026
DESCRIPTION:
URL:https://www.jewelenvy.ca/class/2-day-casting-workshop-saturday-march-14th-and-sunday-march-22nd-2026-2/
LOCATION:Jewel Envy\, 151 Marion St\, Toronto\, Ontario\, M6R 1E6\, Canada
CATEGORIES:Workshop,Classes
ORGANIZER;CN="Jewel Envy":MAILTO:info@jewelenvy.ca
END:VEVENT
BEGIN:VEVENT
DTSTART;TZID=UTC:20260324T183000
DTEND;TZID=UTC:20260324T213000
DTSTAMP:20260421T142300
CREATED:20251230T170730Z
LAST-MODIFIED:20260304T145142Z
UID:15433-1774377000-1774387800@www.jewelenvy.ca
SUMMARY:8 week Intro/Intermed Casting Tuesday March 24th\, 2026
DESCRIPTION:
URL:https://www.jewelenvy.ca/class/8-week-intro-intermed-casting-tuesday-march-24th-2026/
LOCATION:Jewel Envy\, 151 Marion St\, Toronto\, Ontario\, M6R 1E6\, Canada
CATEGORIES:Classes
ORGANIZER;CN="Jewel Envy":MAILTO:info@jewelenvy.ca
END:VEVENT
BEGIN:VEVENT
DTSTART;TZID=UTC:20260325T183000
DTEND;TZID=UTC:20260325T213000
DTSTAMP:20260421T142300
CREATED:20251230T170935Z
LAST-MODIFIED:20260202T040555Z
UID:15436-1774463400-1774474200@www.jewelenvy.ca
SUMMARY:8 week Intro Fab Wednesday March 25th\, 2026
DESCRIPTION:
URL:https://www.jewelenvy.ca/class/8-week-intro-fab-wednesday-march-25th-2026/
LOCATION:Jewel Envy\, 151 Marion St\, Toronto\, Ontario\, M6R 1E6\, Canada
CATEGORIES:Classes
ORGANIZER;CN="Jewel Envy":MAILTO:info@jewelenvy.ca
END:VEVENT
BEGIN:VEVENT
DTSTART;TZID=UTC:20260328T100000
DTEND;TZID=UTC:20260328T180000
DTSTAMP:20260421T142300
CREATED:20260124T173921Z
LAST-MODIFIED:20260209T191852Z
UID:15499-1774692000-1774720800@www.jewelenvy.ca
SUMMARY:1 Day Gem Cutting Workshop Saturday March 28th\, 2026
DESCRIPTION:
URL:https://www.jewelenvy.ca/class/1-day-gem-cutting-saturday-march-28th-2026/
LOCATION:Jewel Envy\, 151 Marion St\, Toronto\, Ontario\, M6R 1E6\, Canada
CATEGORIES:Workshop,Classes
ORGANIZER;CN="Jewel Envy":MAILTO:info@jewelenvy.ca
END:VEVENT
BEGIN:VEVENT
DTSTART;TZID=UTC:20260328T100000
DTEND;TZID=UTC:20260329T180000
DTSTAMP:20260421T142300
CREATED:20260124T173334Z
LAST-MODIFIED:20260124T174325Z
UID:15493-1774692000-1774807200@www.jewelenvy.ca
SUMMARY:2 Day Gem Cutting and Setting Workshop Saturday and Sunday March 28th and 29th\, 2026
DESCRIPTION:Day 1: Cut 4-6 cabochons \nDay 2: Set 1 oval cabochon in a pendant
URL:https://www.jewelenvy.ca/class/2-day-gem-cutting-and-setting-saturday-and-sunday-march-28th-29th_26/
LOCATION:Jewel Envy\, 151 Marion St\, Toronto\, Ontario\, M6R 1E6\, Canada
CATEGORIES:Workshop,Classes
ORGANIZER;CN="Jewel Envy":MAILTO:info@jewelenvy.ca
END:VEVENT
BEGIN:VEVENT
DTSTART;TZID=UTC:20260328T100000
DTEND;TZID=UTC:20260329T180000
DTSTAMP:20260421T142300
CREATED:20260124T173722Z
LAST-MODIFIED:20260124T174451Z
UID:15496-1774692000-1774807200@www.jewelenvy.ca
SUMMARY:2 Day Gem Cutting Workshop Saturday and Sunday March 28th and 29th\, 2026
DESCRIPTION:2 days of gem cutting \nDay 1- cut 4-6 cabochons \nDay 2 try more complex shapes\, add some loose facets\, try more difficult gems to cut
URL:https://www.jewelenvy.ca/class/2-day-gem-cutting-saturday-and-sunday-march-28th-and-29th-2026/
LOCATION:Jewel Envy\, 151 Marion St\, Toronto\, Ontario\, M6R 1E6\, Canada
CATEGORIES:Workshop,Classes
ORGANIZER;CN="Jewel Envy":MAILTO:info@jewelenvy.ca
END:VEVENT
BEGIN:VEVENT
DTSTART;TZID=UTC:20260329T100000
DTEND;TZID=UTC:20260329T180000
DTSTAMP:20260421T142300
CREATED:20260124T174209Z
LAST-MODIFIED:20260124T174209Z
UID:15502-1774778400-1774807200@www.jewelenvy.ca
SUMMARY:1 Day Bezel Setting Workshop Sunday March 29th\, 2026
DESCRIPTION:
URL:https://www.jewelenvy.ca/class/1-day-bezel-setting-workshop-sunday-march-29th-2026/
LOCATION:Jewel Envy\, 151 Marion St\, Toronto\, Ontario\, M6R 1E6\, Canada
CATEGORIES:Workshop,Classes
ORGANIZER;CN="Jewel Envy":MAILTO:info@jewelenvy.ca
END:VEVENT
END:VCALENDAR