BEGIN:VCALENDAR
VERSION:2.0
PRODID:-//Jewel Envy - ECPv6.15.20//NONSGML v1.0//EN
CALSCALE:GREGORIAN
METHOD:PUBLISH
X-WR-CALNAME:Jewel Envy
X-ORIGINAL-URL:https://www.jewelenvy.ca
X-WR-CALDESC:Events for Jewel Envy
REFRESH-INTERVAL;VALUE=DURATION:PT1H
X-Robots-Tag:noindex
X-PUBLISHED-TTL:PT1H
BEGIN:VTIMEZONE
TZID:UTC
BEGIN:STANDARD
TZOFFSETFROM:+0000
TZOFFSETTO:+0000
TZNAME:UTC
DTSTART:20220101T000000
END:STANDARD
END:VTIMEZONE
BEGIN:VEVENT
DTSTART;TZID=UTC:20230608T183000
DTEND;TZID=UTC:20230608T213000
DTSTAMP:20260421T133252
CREATED:20230327T194452Z
LAST-MODIFIED:20230525T191332Z
UID:12200-1686249000-1686259800@www.jewelenvy.ca
SUMMARY:8 Week Introductory and Intermediate Casting Thursday June 8th\, 2023
DESCRIPTION:Masks are mandatory during classes for your own health and safety!
URL:https://www.jewelenvy.ca/class/8-week-introductory-and-intermediate-casting-thursday-june-8th-2023/
LOCATION:Jewel Envy\, 151 Marion St\, Toronto\, Ontario\, M6R 1E6\, Canada
CATEGORIES:Classes
ORGANIZER;CN="Jewel Envy":MAILTO:info@jewelenvy.ca
END:VEVENT
END:VCALENDAR