BEGIN:VCALENDAR
VERSION:2.0
PRODID:-//Jewel Envy - ECPv6.15.20//NONSGML v1.0//EN
CALSCALE:GREGORIAN
METHOD:PUBLISH
X-WR-CALNAME:Jewel Envy
X-ORIGINAL-URL:https://www.jewelenvy.ca
X-WR-CALDESC:Events for Jewel Envy
REFRESH-INTERVAL;VALUE=DURATION:PT1H
X-Robots-Tag:noindex
X-PUBLISHED-TTL:PT1H
BEGIN:VTIMEZONE
TZID:UTC
BEGIN:STANDARD
TZOFFSETFROM:+0000
TZOFFSETTO:+0000
TZNAME:UTC
DTSTART:20210101T000000
END:STANDARD
END:VTIMEZONE
BEGIN:VEVENT
DTSTART;TZID=UTC:20220814T120000
DTEND;TZID=UTC:20220814T180000
DTSTAMP:20260420T032500
CREATED:20220627T230021Z
LAST-MODIFIED:20220627T230021Z
UID:11277-1660478400-1660500000@www.jewelenvy.ca
SUMMARY:Class Amnesty Day
DESCRIPTION:Sign up over the phone or in person during business hours in advance of the day. Time slots are 3 hours either 12pm-3pm or 3pm-6pm.
URL:https://www.jewelenvy.ca/class/class-amnesty-day-7/
LOCATION:Jewel Envy\, 151 Marion St\, Toronto\, Ontario\, M6R 1E6\, Canada
CATEGORIES:Workshop,Classes,RSVP
ORGANIZER;CN="Jewel Envy":MAILTO:info@jewelenvy.ca
END:VEVENT
BEGIN:VEVENT
DTSTART;TZID=UTC:20220807T100000
DTEND;TZID=UTC:20220807T180000
DTSTAMP:20260420T032500
CREATED:20220627T225751Z
LAST-MODIFIED:20220628T173634Z
UID:11274-1659866400-1659895200@www.jewelenvy.ca
SUMMARY:1 Day Earring Workshop
DESCRIPTION:
URL:https://www.jewelenvy.ca/class/1-day-earring-workshop-4/
LOCATION:Jewel Envy\, 151 Marion St\, Toronto\, Ontario\, M6R 1E6\, Canada
CATEGORIES:Workshop,Classes
ORGANIZER;CN="Jewel Envy":MAILTO:info@jewelenvy.ca
END:VEVENT
BEGIN:VEVENT
DTSTART;TZID=UTC:20220711T183000
DTEND;TZID=UTC:20220711T213000
DTSTAMP:20260420T032500
CREATED:20220501T155403Z
LAST-MODIFIED:20220501T155403Z
UID:11078-1657564200-1657575000@www.jewelenvy.ca
SUMMARY:6 week Adult/Teen Sampler Class
DESCRIPTION:Class for adults and teens to take together! Teens must be at least 12 and adults can only sign up along with 1-3 teens. All materials are included in this class.
URL:https://www.jewelenvy.ca/class/6-week-adult-teen-sampler-class-2/
LOCATION:Jewel Envy\, 151 Marion St\, Toronto\, Ontario\, M6R 1E6\, Canada
ORGANIZER;CN="Jewel Envy":MAILTO:info@jewelenvy.ca
END:VEVENT
BEGIN:VEVENT
DTSTART;TZID=UTC:20220710T100000
DTEND;TZID=UTC:20220710T180000
DTSTAMP:20260420T032500
CREATED:20220627T225500Z
LAST-MODIFIED:20220627T225500Z
UID:11271-1657447200-1657476000@www.jewelenvy.ca
SUMMARY:1 Day Stacking Ring Workshop
DESCRIPTION:
URL:https://www.jewelenvy.ca/class/1-day-stacking-ring-workshop-9/
LOCATION:Jewel Envy\, 151 Marion St\, Toronto\, Ontario\, M6R 1E6\, Canada
CATEGORIES:Workshop,Classes
ORGANIZER;CN="Jewel Envy":MAILTO:info@jewelenvy.ca
END:VEVENT
BEGIN:VEVENT
DTSTART;TZID=UTC:20220625T100000
DTEND;TZID=UTC:20220625T180000
DTSTAMP:20260420T032500
CREATED:20220501T161726Z
LAST-MODIFIED:20220501T161726Z
UID:11085-1656151200-1656180000@www.jewelenvy.ca
SUMMARY:1 Day Stacking Ring Workshop
DESCRIPTION:
URL:https://www.jewelenvy.ca/class/1-day-stacking-ring-workshop-8/
LOCATION:Jewel Envy\, 151 Marion St\, Toronto\, Ontario\, M6R 1E6\, Canada
CATEGORIES:Workshop,Classes
ORGANIZER;CN="Jewel Envy":MAILTO:info@jewelenvy.ca
END:VEVENT
BEGIN:VEVENT
DTSTART;TZID=UTC:20220623T183000
DTEND;TZID=UTC:20220623T213000
DTSTAMP:20260420T032500
CREATED:20220428T015021Z
LAST-MODIFIED:20220428T015021Z
UID:11071-1656009000-1656019800@www.jewelenvy.ca
SUMMARY:8 Week Introductory/Intermediate Casting
DESCRIPTION:
URL:https://www.jewelenvy.ca/class/8-week-introductory-intermediate-casting-2/
LOCATION:Jewel Envy\, 151 Marion St\, Toronto\, Ontario\, M6R 1E6\, Canada
CATEGORIES:Classes
ORGANIZER;CN="Jewel Envy":MAILTO:info@jewelenvy.ca
END:VEVENT
BEGIN:VEVENT
DTSTART;TZID=UTC:20220619T100000
DTEND;TZID=UTC:20220619T180000
DTSTAMP:20260420T032500
CREATED:20220501T155650Z
LAST-MODIFIED:20220501T155650Z
UID:11081-1655632800-1655661600@www.jewelenvy.ca
SUMMARY:1 Day Chain Making Workshop
DESCRIPTION:
URL:https://www.jewelenvy.ca/class/1-day-chain-making-workshop-2/
LOCATION:Jewel Envy\, 151 Marion St\, Toronto\, Ontario\, M6R 1E6\, Canada
CATEGORIES:Workshop,Classes
ORGANIZER;CN="Jewel Envy":MAILTO:info@jewelenvy.ca
END:VEVENT
BEGIN:VEVENT
DTSTART;TZID=UTC:20220615T183000
DTEND;TZID=UTC:20220615T213000
DTSTAMP:20260420T032500
CREATED:20220428T014541Z
LAST-MODIFIED:20220607T221612Z
UID:11067-1655317800-1655328600@www.jewelenvy.ca
SUMMARY:8 Week Introductory Fabrication
DESCRIPTION:
URL:https://www.jewelenvy.ca/class/8-week-introductory-fabrication-8/
LOCATION:Jewel Envy\, 151 Marion St\, Toronto\, Ontario\, M6R 1E6\, Canada
CATEGORIES:Classes
ORGANIZER;CN="Jewel Envy":MAILTO:info@jewelenvy.ca
END:VEVENT
BEGIN:VEVENT
DTSTART;TZID=UTC:20220607T183000
DTEND;TZID=UTC:20220607T213000
DTSTAMP:20260420T032500
CREATED:20220428T014202Z
LAST-MODIFIED:20220428T014202Z
UID:11062-1654626600-1654637400@www.jewelenvy.ca
SUMMARY:8 Week Intermediate Fabrication level 2-5
DESCRIPTION:
URL:https://www.jewelenvy.ca/class/8-week-intermediate-fabrication-level-2-5-3/
LOCATION:Jewel Envy\, 151 Marion St\, Toronto\, Ontario\, M6R 1E6\, Canada
CATEGORIES:Classes
ORGANIZER;CN="Jewel Envy":MAILTO:info@jewelenvy.ca
END:VEVENT
BEGIN:VEVENT
DTSTART;TZID=UTC:20220604T100000
DTEND;TZID=UTC:20220605T180000
DTSTAMP:20260420T032500
CREATED:20220301T000330Z
LAST-MODIFIED:20220423T033923Z
UID:10935-1654336800-1654452000@www.jewelenvy.ca
SUMMARY:2 Day Gem Cutting and Setting Workshop
DESCRIPTION:You can sign up for just the gem cutting or setting portion as a 1 day class. You can also take 2 days of gem cutting. The two day class includes a material fee for the gem material and 10 grams of sterling silver.
URL:https://www.jewelenvy.ca/class/2-day-gem-cutting-and-setting-workshop-3/
LOCATION:Jewel Envy\, 151 Marion St\, Toronto\, Ontario\, M6R 1E6\, Canada
CATEGORIES:Workshop,Classes
ORGANIZER;CN="Jewel Envy":MAILTO:info@jewelenvy.ca
END:VEVENT
BEGIN:VEVENT
DTSTART;TZID=UTC:20220529T100000
DTEND;TZID=UTC:20220529T180000
DTSTAMP:20260420T032500
CREATED:20220428T013751Z
LAST-MODIFIED:20220428T013751Z
UID:11059-1653818400-1653847200@www.jewelenvy.ca
SUMMARY:1 Day Goldsmithing for Beaders Workshop
DESCRIPTION:
URL:https://www.jewelenvy.ca/class/1-day-goldsmithing-for-beaders-workshop/
LOCATION:Jewel Envy\, 151 Marion St\, Toronto\, Ontario\, M6R 1E6\, Canada
CATEGORIES:Workshop,Classes
ORGANIZER;CN="Jewel Envy":MAILTO:info@jewelenvy.ca
END:VEVENT
BEGIN:VEVENT
DTSTART;TZID=UTC:20220515T100000
DTEND;TZID=UTC:20220515T180000
DTSTAMP:20260420T032500
CREATED:20220428T013517Z
LAST-MODIFIED:20220428T013909Z
UID:11056-1652608800-1652637600@www.jewelenvy.ca
SUMMARY:1 Day Band Ring Workshop
DESCRIPTION:
URL:https://www.jewelenvy.ca/class/1-day-band-ring-workshop-9/
LOCATION:Jewel Envy\, 151 Marion St\, Toronto\, Ontario\, M6R 1E6\, Canada
CATEGORIES:Workshop,Classes
ORGANIZER;CN="Jewel Envy":MAILTO:info@jewelenvy.ca
END:VEVENT
BEGIN:VEVENT
DTSTART;TZID=UTC:20220509T183000
DTEND;TZID=UTC:20220509T213000
DTSTAMP:20260420T032500
CREATED:20220214T040013Z
LAST-MODIFIED:20220214T040013Z
UID:10834-1652121000-1652131800@www.jewelenvy.ca
SUMMARY:8 Week Open Class
DESCRIPTION:
URL:https://www.jewelenvy.ca/class/8-week-open-class-2/
LOCATION:Jewel Envy\, 151 Marion St\, Toronto\, Ontario\, M6R 1E6\, Canada
CATEGORIES:Classes
ORGANIZER;CN="Jewel Envy":MAILTO:info@jewelenvy.ca
END:VEVENT
BEGIN:VEVENT
DTSTART;TZID=UTC:20220507T100000
DTEND;TZID=UTC:20220507T180000
DTSTAMP:20260420T032500
CREATED:20220403T161416Z
LAST-MODIFIED:20220403T161416Z
UID:11011-1651917600-1651946400@www.jewelenvy.ca
SUMMARY:1 Day Intermediate Enameling Workshop
DESCRIPTION:You must taken at the 1 day introductory enameling class here or something comparable elsewhere.
URL:https://www.jewelenvy.ca/class/1-day-intermediate-enameling-workshop-2/
LOCATION:Jewel Envy\, 151 Marion St\, Toronto\, Ontario\, M6R 1E6\, Canada
CATEGORIES:Workshop,Classes
ORGANIZER;CN="Jewel Envy":MAILTO:info@jewelenvy.ca
END:VEVENT
BEGIN:VEVENT
DTSTART;TZID=UTC:20220506T183000
DTEND;TZID=UTC:20220506T213000
DTSTAMP:20260420T032500
CREATED:20220220T172124Z
LAST-MODIFIED:20220220T172124Z
UID:10876-1651861800-1651872600@www.jewelenvy.ca
SUMMARY:8 Week Intro Gem Setting Class
DESCRIPTION:*to get the most out of this learning experience we recommend having taken at least 1 8 week introductory class where you have learned how to finish pieces (emery and polish). There is not enough time within the class to do all of the emerying for the projects so it is expected that some finishing will take place at home between classes. \nThis class has a kit of pre cast and calibrated stones and setting burs that must be purchased with the class
URL:https://www.jewelenvy.ca/class/8-week-intro-gem-setting-class/
LOCATION:Jewel Envy\, 151 Marion St\, Toronto\, Ontario\, M6R 1E6\, Canada
ORGANIZER;CN="Jewel Envy":MAILTO:info@jewelenvy.ca
END:VEVENT
BEGIN:VEVENT
DTSTART;TZID=UTC:20220430T100000
DTEND;TZID=UTC:20220430T180000
DTSTAMP:20260420T032500
CREATED:20220329T183514Z
LAST-MODIFIED:20220329T183514Z
UID:10996-1651312800-1651341600@www.jewelenvy.ca
SUMMARY:1 Day Chain Making Workshop
DESCRIPTION:In this one day class you will learn how to make jump rings and create a chain known as “Kings Chain” or “Idiot’s Delight”. It can be a bracelet or the center section of a necklace. Although 5 grams of sterling silver are included in this class depending on the size of bracelet as well as link you may need to purchase additional materials to complete the project.
URL:https://www.jewelenvy.ca/class/1-day-chain-making-workshop/
LOCATION:Jewel Envy\, 151 Marion St\, Toronto\, Ontario\, M6R 1E6\, Canada
CATEGORIES:Workshop,Classes
ORGANIZER;CN="Jewel Envy":MAILTO:info@jewelenvy.ca
END:VEVENT
BEGIN:VEVENT
DTSTART;TZID=UTC:20220423T100000
DTEND;TZID=UTC:20220423T180000
DTSTAMP:20260420T032500
CREATED:20220214T040940Z
LAST-MODIFIED:20220214T040940Z
UID:10840-1650708000-1650736800@www.jewelenvy.ca
SUMMARY:1 Day Stacking Ring Workshop
DESCRIPTION:
URL:https://www.jewelenvy.ca/class/1-day-stacking-ring-workshop-7/
LOCATION:Jewel Envy\, 151 Marion St\, Toronto\, Ontario\, M6R 1E6\, Canada
CATEGORIES:Workshop,Classes
ORGANIZER;CN="Jewel Envy":MAILTO:info@jewelenvy.ca
END:VEVENT
BEGIN:VEVENT
DTSTART;TZID=UTC:20220414T183000
DTEND;TZID=UTC:20220414T213000
DTSTAMP:20260420T032500
CREATED:20220214T035559Z
LAST-MODIFIED:20220214T035559Z
UID:10831-1649961000-1649971800@www.jewelenvy.ca
SUMMARY:8 Week Intermediate Fabrication level 2-6
DESCRIPTION:
URL:https://www.jewelenvy.ca/class/8-week-intermediate-fabrication-level-2-6-3/
LOCATION:Jewel Envy\, 151 Marion St\, Toronto\, Ontario\, M6R 1E6\, Canada
CATEGORIES:Classes
ORGANIZER;CN="Jewel Envy":MAILTO:info@jewelenvy.ca
END:VEVENT
BEGIN:VEVENT
DTSTART;TZID=UTC:20220413T183000
DTEND;TZID=UTC:20220413T213000
DTSTAMP:20260420T032500
CREATED:20220214T035324Z
LAST-MODIFIED:20220214T035324Z
UID:10828-1649874600-1649885400@www.jewelenvy.ca
SUMMARY:8 Week Introductory and Intermediate Casting
DESCRIPTION:
URL:https://www.jewelenvy.ca/class/8-week-introductory-and-intermediate-casting-6/
LOCATION:Jewel Envy\, 151 Marion St\, Toronto\, Ontario\, M6R 1E6\, Canada
CATEGORIES:Classes
ORGANIZER;CN="Jewel Envy":MAILTO:info@jewelenvy.ca
END:VEVENT
BEGIN:VEVENT
DTSTART;TZID=UTC:20220405T183000
DTEND;TZID=UTC:20220405T213000
DTSTAMP:20260420T032500
CREATED:20220214T035036Z
LAST-MODIFIED:20220214T035036Z
UID:10825-1649183400-1649194200@www.jewelenvy.ca
SUMMARY:8 Week Introductory Fabrication
DESCRIPTION:
URL:https://www.jewelenvy.ca/class/8-week-introductory-fabrication-7/
LOCATION:Jewel Envy\, 151 Marion St\, Toronto\, Ontario\, M6R 1E6\, Canada
CATEGORIES:Classes
ORGANIZER;CN="Jewel Envy":MAILTO:info@jewelenvy.ca
END:VEVENT
BEGIN:VEVENT
DTSTART;TZID=UTC:20220403T100000
DTEND;TZID=UTC:20220403T180000
DTSTAMP:20260420T032500
CREATED:20220214T040803Z
LAST-MODIFIED:20220214T040803Z
UID:10837-1648980000-1649008800@www.jewelenvy.ca
SUMMARY:1 Day Earring Workshop
DESCRIPTION:
URL:https://www.jewelenvy.ca/class/1-day-earring-workshop-3/
LOCATION:Jewel Envy\, 151 Marion St\, Toronto\, Ontario\, M6R 1E6\, Canada
CATEGORIES:Workshop,Classes
ORGANIZER;CN="Jewel Envy":MAILTO:info@jewelenvy.ca
END:VEVENT
BEGIN:VEVENT
DTSTART;TZID=UTC:20220402T100000
DTEND;TZID=UTC:20220402T180000
DTSTAMP:20260420T032500
CREATED:20220318T224413Z
LAST-MODIFIED:20220318T224413Z
UID:10962-1648893600-1648922400@www.jewelenvy.ca
SUMMARY:1 Day Intermediate Enameling Workshop
DESCRIPTION:
URL:https://www.jewelenvy.ca/class/1-day-intermediate-enameling-workshop/
LOCATION:Jewel Envy\, 151 Marion St\, Toronto\, Ontario\, M6R 1E6\, Canada
CATEGORIES:Workshop,Classes
ORGANIZER;CN="Jewel Envy":MAILTO:info@jewelenvy.ca
END:VEVENT
BEGIN:VEVENT
DTSTART;TZID=UTC:20220327T120000
DTEND;TZID=UTC:20220327T180000
DTSTAMP:20260420T032500
CREATED:20211231T043841Z
LAST-MODIFIED:20220130T214721Z
UID:10641-1648382400-1648404000@www.jewelenvy.ca
SUMMARY:Class Amnesty Day
DESCRIPTION:
URL:https://www.jewelenvy.ca/class/class-amnesty-day-6/
LOCATION:Jewel Envy\, 151 Marion St\, Toronto\, Ontario\, M6R 1E6\, Canada
CATEGORIES:RSVP
ORGANIZER;CN="Jewel Envy":MAILTO:info@jewelenvy.ca
END:VEVENT
BEGIN:VEVENT
DTSTART;TZID=UTC:20220313T100000
DTEND;TZID=UTC:20220313T180000
DTSTAMP:20260420T032500
CREATED:20220220T171553Z
LAST-MODIFIED:20220302T013350Z
UID:10873-1647165600-1647194400@www.jewelenvy.ca
SUMMARY:1 Day Band Ring Workshop
DESCRIPTION:
URL:https://www.jewelenvy.ca/class/1-day-band-ring-workshop-8/
LOCATION:Jewel Envy\, 151 Marion St\, Toronto\, Ontario\, M6R 1E6\, Canada
CATEGORIES:Workshop,Classes
ORGANIZER;CN="Jewel Envy":MAILTO:info@jewelenvy.ca
END:VEVENT
BEGIN:VEVENT
DTSTART;TZID=UTC:20220305T100000
DTEND;TZID=UTC:20220305T180000
DTSTAMP:20260420T032500
CREATED:20211028T162941Z
LAST-MODIFIED:20211028T163014Z
UID:10424-1646474400-1646503200@www.jewelenvy.ca
SUMMARY:1 Day Enamelling Workshop
DESCRIPTION:
URL:https://www.jewelenvy.ca/class/1-day-enamelling-workshop-4/
LOCATION:Jewel Envy\, 151 Marion St\, Toronto\, Ontario\, M6R 1E6\, Canada
CATEGORIES:Workshop,Classes
ORGANIZER;CN="Jewel Envy":MAILTO:info@jewelenvy.ca
END:VEVENT
BEGIN:VEVENT
DTSTART;TZID=UTC:20220226T100000
DTEND;TZID=UTC:20220226T180000
DTSTAMP:20260420T032500
CREATED:20211028T155445Z
LAST-MODIFIED:20211028T155554Z
UID:10419-1645869600-1645898400@www.jewelenvy.ca
SUMMARY:1 Day Stacking Ring Workshop
DESCRIPTION:
URL:https://www.jewelenvy.ca/class/1-day-stacking-ring-workshop-6/
LOCATION:Jewel Envy\, 151 Marion St\, Toronto\, Ontario\, M6R 1E6\, Canada
CATEGORIES:Workshop,Classes
ORGANIZER;CN="Jewel Envy":MAILTO:info@jewelenvy.ca
END:VEVENT
BEGIN:VEVENT
DTSTART;TZID=UTC:20220225T183000
DTEND;TZID=UTC:20220225T213000
DTSTAMP:20260420T032500
CREATED:20211231T041352Z
LAST-MODIFIED:20220204T165602Z
UID:10635-1645813800-1645824600@www.jewelenvy.ca
SUMMARY:8 Week Intro Casting Friday February 25th\, 2022
DESCRIPTION:
URL:https://www.jewelenvy.ca/class/8-week-intro-casting-friday-february-25th-2022/
LOCATION:Jewel Envy\, 151 Marion St\, Toronto\, Ontario\, M6R 1E6\, Canada
CATEGORIES:Classes
ORGANIZER;CN="Jewel Envy":MAILTO:info@jewelenvy.ca
END:VEVENT
BEGIN:VEVENT
DTSTART;TZID=UTC:20220217T183000
DTEND;TZID=UTC:20220217T213000
DTSTAMP:20260420T032500
CREATED:20211121T144259Z
LAST-MODIFIED:20211121T144719Z
UID:10553-1645122600-1645133400@www.jewelenvy.ca
SUMMARY:8 Week Introductory Fabrication
DESCRIPTION:
URL:https://www.jewelenvy.ca/class/introductory-fabrication-4/
LOCATION:Jewel Envy\, 151 Marion St\, Toronto\, Ontario\, M6R 1E6\, Canada
CATEGORIES:Classes
ORGANIZER;CN="Jewel Envy":MAILTO:info@jewelenvy.ca
END:VEVENT
BEGIN:VEVENT
DTSTART;TZID=UTC:20220213T100000
DTEND;TZID=UTC:20220213T180000
DTSTAMP:20260420T032500
CREATED:20211028T155222Z
LAST-MODIFIED:20211028T155249Z
UID:10416-1644746400-1644775200@www.jewelenvy.ca
SUMMARY:1 Day Nameplate Workshop
DESCRIPTION:
URL:https://www.jewelenvy.ca/class/1-day-nameplate-workshop-3/
LOCATION:Jewel Envy\, 151 Marion St\, Toronto\, Ontario\, M6R 1E6\, Canada
CATEGORIES:Workshop,Classes
ORGANIZER;CN="Jewel Envy":MAILTO:info@jewelenvy.ca
END:VEVENT
BEGIN:VEVENT
DTSTART;TZID=UTC:20220206T100000
DTEND;TZID=UTC:20220206T140000
DTSTAMP:20260420T032500
CREATED:20211231T041942Z
LAST-MODIFIED:20220130T214855Z
UID:10638-1644141600-1644156000@www.jewelenvy.ca
SUMMARY:1/2 Day Adult and Teen Half Day Pendant Workshop\, Sunday January 23rd\, 2022
DESCRIPTION:
URL:https://www.jewelenvy.ca/class/1-2-day-adult-and-teen-half-day-pendant-workshop-sunday-january-23rd-2022/
LOCATION:Jewel Envy\, 151 Marion St\, Toronto\, Ontario\, M6R 1E6\, Canada
CATEGORIES:Workshop
ORGANIZER;CN="Jewel Envy":MAILTO:info@jewelenvy.ca
END:VEVENT
END:VCALENDAR