BEGIN:VCALENDAR
VERSION:2.0
PRODID:-//Jewel Envy - ECPv6.15.20//NONSGML v1.0//EN
CALSCALE:GREGORIAN
METHOD:PUBLISH
X-WR-CALNAME:Jewel Envy
X-ORIGINAL-URL:https://www.jewelenvy.ca
X-WR-CALDESC:Events for Jewel Envy
REFRESH-INTERVAL;VALUE=DURATION:PT1H
X-Robots-Tag:noindex
X-PUBLISHED-TTL:PT1H
BEGIN:VTIMEZONE
TZID:UTC
BEGIN:STANDARD
TZOFFSETFROM:+0000
TZOFFSETTO:+0000
TZNAME:UTC
DTSTART:20210101T000000
END:STANDARD
END:VTIMEZONE
BEGIN:VEVENT
DTSTART;TZID=UTC:20220403T100000
DTEND;TZID=UTC:20220403T180000
DTSTAMP:20260420T063309
CREATED:20220214T040803Z
LAST-MODIFIED:20220214T040803Z
UID:10837-1648980000-1649008800@www.jewelenvy.ca
SUMMARY:1 Day Earring Workshop
DESCRIPTION:
URL:https://www.jewelenvy.ca/class/1-day-earring-workshop-3/
LOCATION:Jewel Envy\, 151 Marion St\, Toronto\, Ontario\, M6R 1E6\, Canada
CATEGORIES:Workshop,Classes
ORGANIZER;CN="Jewel Envy":MAILTO:info@jewelenvy.ca
END:VEVENT
BEGIN:VEVENT
DTSTART;TZID=UTC:20220402T100000
DTEND;TZID=UTC:20220402T180000
DTSTAMP:20260420T063309
CREATED:20220318T224413Z
LAST-MODIFIED:20220318T224413Z
UID:10962-1648893600-1648922400@www.jewelenvy.ca
SUMMARY:1 Day Intermediate Enameling Workshop
DESCRIPTION:
URL:https://www.jewelenvy.ca/class/1-day-intermediate-enameling-workshop/
LOCATION:Jewel Envy\, 151 Marion St\, Toronto\, Ontario\, M6R 1E6\, Canada
CATEGORIES:Workshop,Classes
ORGANIZER;CN="Jewel Envy":MAILTO:info@jewelenvy.ca
END:VEVENT
BEGIN:VEVENT
DTSTART;TZID=UTC:20220327T120000
DTEND;TZID=UTC:20220327T180000
DTSTAMP:20260420T063309
CREATED:20211231T043841Z
LAST-MODIFIED:20220130T214721Z
UID:10641-1648382400-1648404000@www.jewelenvy.ca
SUMMARY:Class Amnesty Day
DESCRIPTION:
URL:https://www.jewelenvy.ca/class/class-amnesty-day-6/
LOCATION:Jewel Envy\, 151 Marion St\, Toronto\, Ontario\, M6R 1E6\, Canada
CATEGORIES:RSVP
ORGANIZER;CN="Jewel Envy":MAILTO:info@jewelenvy.ca
END:VEVENT
BEGIN:VEVENT
DTSTART;TZID=UTC:20220313T100000
DTEND;TZID=UTC:20220313T180000
DTSTAMP:20260420T063309
CREATED:20220220T171553Z
LAST-MODIFIED:20220302T013350Z
UID:10873-1647165600-1647194400@www.jewelenvy.ca
SUMMARY:1 Day Band Ring Workshop
DESCRIPTION:
URL:https://www.jewelenvy.ca/class/1-day-band-ring-workshop-8/
LOCATION:Jewel Envy\, 151 Marion St\, Toronto\, Ontario\, M6R 1E6\, Canada
CATEGORIES:Workshop,Classes
ORGANIZER;CN="Jewel Envy":MAILTO:info@jewelenvy.ca
END:VEVENT
BEGIN:VEVENT
DTSTART;TZID=UTC:20220305T100000
DTEND;TZID=UTC:20220305T180000
DTSTAMP:20260420T063309
CREATED:20211028T162941Z
LAST-MODIFIED:20211028T163014Z
UID:10424-1646474400-1646503200@www.jewelenvy.ca
SUMMARY:1 Day Enamelling Workshop
DESCRIPTION:
URL:https://www.jewelenvy.ca/class/1-day-enamelling-workshop-4/
LOCATION:Jewel Envy\, 151 Marion St\, Toronto\, Ontario\, M6R 1E6\, Canada
CATEGORIES:Workshop,Classes
ORGANIZER;CN="Jewel Envy":MAILTO:info@jewelenvy.ca
END:VEVENT
BEGIN:VEVENT
DTSTART;TZID=UTC:20220226T100000
DTEND;TZID=UTC:20220226T180000
DTSTAMP:20260420T063309
CREATED:20211028T155445Z
LAST-MODIFIED:20211028T155554Z
UID:10419-1645869600-1645898400@www.jewelenvy.ca
SUMMARY:1 Day Stacking Ring Workshop
DESCRIPTION:
URL:https://www.jewelenvy.ca/class/1-day-stacking-ring-workshop-6/
LOCATION:Jewel Envy\, 151 Marion St\, Toronto\, Ontario\, M6R 1E6\, Canada
CATEGORIES:Workshop,Classes
ORGANIZER;CN="Jewel Envy":MAILTO:info@jewelenvy.ca
END:VEVENT
BEGIN:VEVENT
DTSTART;TZID=UTC:20220225T183000
DTEND;TZID=UTC:20220225T213000
DTSTAMP:20260420T063309
CREATED:20211231T041352Z
LAST-MODIFIED:20220204T165602Z
UID:10635-1645813800-1645824600@www.jewelenvy.ca
SUMMARY:8 Week Intro Casting Friday February 25th\, 2022
DESCRIPTION:
URL:https://www.jewelenvy.ca/class/8-week-intro-casting-friday-february-25th-2022/
LOCATION:Jewel Envy\, 151 Marion St\, Toronto\, Ontario\, M6R 1E6\, Canada
CATEGORIES:Classes
ORGANIZER;CN="Jewel Envy":MAILTO:info@jewelenvy.ca
END:VEVENT
BEGIN:VEVENT
DTSTART;TZID=UTC:20220217T183000
DTEND;TZID=UTC:20220217T213000
DTSTAMP:20260420T063309
CREATED:20211121T144259Z
LAST-MODIFIED:20211121T144719Z
UID:10553-1645122600-1645133400@www.jewelenvy.ca
SUMMARY:8 Week Introductory Fabrication
DESCRIPTION:
URL:https://www.jewelenvy.ca/class/introductory-fabrication-4/
LOCATION:Jewel Envy\, 151 Marion St\, Toronto\, Ontario\, M6R 1E6\, Canada
CATEGORIES:Classes
ORGANIZER;CN="Jewel Envy":MAILTO:info@jewelenvy.ca
END:VEVENT
BEGIN:VEVENT
DTSTART;TZID=UTC:20220213T100000
DTEND;TZID=UTC:20220213T180000
DTSTAMP:20260420T063309
CREATED:20211028T155222Z
LAST-MODIFIED:20211028T155249Z
UID:10416-1644746400-1644775200@www.jewelenvy.ca
SUMMARY:1 Day Nameplate Workshop
DESCRIPTION:
URL:https://www.jewelenvy.ca/class/1-day-nameplate-workshop-3/
LOCATION:Jewel Envy\, 151 Marion St\, Toronto\, Ontario\, M6R 1E6\, Canada
CATEGORIES:Workshop,Classes
ORGANIZER;CN="Jewel Envy":MAILTO:info@jewelenvy.ca
END:VEVENT
BEGIN:VEVENT
DTSTART;TZID=UTC:20220206T100000
DTEND;TZID=UTC:20220206T140000
DTSTAMP:20260420T063309
CREATED:20211231T041942Z
LAST-MODIFIED:20220130T214855Z
UID:10638-1644141600-1644156000@www.jewelenvy.ca
SUMMARY:1/2 Day Adult and Teen Half Day Pendant Workshop\, Sunday January 23rd\, 2022
DESCRIPTION:
URL:https://www.jewelenvy.ca/class/1-2-day-adult-and-teen-half-day-pendant-workshop-sunday-january-23rd-2022/
LOCATION:Jewel Envy\, 151 Marion St\, Toronto\, Ontario\, M6R 1E6\, Canada
CATEGORIES:Workshop
ORGANIZER;CN="Jewel Envy":MAILTO:info@jewelenvy.ca
END:VEVENT
BEGIN:VEVENT
DTSTART;TZID=UTC:20220130T100000
DTEND;TZID=UTC:20220130T180000
DTSTAMP:20260420T063309
CREATED:20211028T154836Z
LAST-MODIFIED:20211028T154858Z
UID:10413-1643536800-1643565600@www.jewelenvy.ca
SUMMARY:1 Day Cuttlefish Casting Workshop
DESCRIPTION:
URL:https://www.jewelenvy.ca/class/1-day-cuttlefish-casting-workshop/
LOCATION:Jewel Envy\, 151 Marion St\, Toronto\, Ontario\, M6R 1E6\, Canada
CATEGORIES:Workshop,Classes
ORGANIZER;CN="Jewel Envy":MAILTO:info@jewelenvy.ca
END:VEVENT
BEGIN:VEVENT
DTSTART;TZID=UTC:20220119T183000
DTEND;TZID=UTC:20220119T213000
DTSTAMP:20260420T063309
CREATED:20211028T154126Z
LAST-MODIFIED:20211121T144823Z
UID:10410-1642617000-1642627800@www.jewelenvy.ca
SUMMARY:8 Week Introductory Fabrication
DESCRIPTION:
URL:https://www.jewelenvy.ca/class/introductory-fabrication-3/
LOCATION:Jewel Envy\, 151 Marion St\, Toronto\, Ontario\, M6R 1E6\, Canada
CATEGORIES:Classes
ORGANIZER;CN="Jewel Envy":MAILTO:info@jewelenvy.ca
END:VEVENT
BEGIN:VEVENT
DTSTART;TZID=UTC:20220118T183000
DTEND;TZID=UTC:20220118T213000
DTSTAMP:20260420T063309
CREATED:20211028T153823Z
LAST-MODIFIED:20211209T172854Z
UID:10407-1642530600-1642541400@www.jewelenvy.ca
SUMMARY:8 Week Introductory and Intermediate Casting
DESCRIPTION:
URL:https://www.jewelenvy.ca/class/introductory-and-intermediate-casting/
LOCATION:Jewel Envy\, 151 Marion St\, Toronto\, Ontario\, M6R 1E6\, Canada
CATEGORIES:Classes
ORGANIZER;CN="Jewel Envy":MAILTO:info@jewelenvy.ca
END:VEVENT
BEGIN:VEVENT
DTSTART;TZID=UTC:20220117T183000
DTEND;TZID=UTC:20220117T213000
DTSTAMP:20260420T063309
CREATED:20211028T153124Z
LAST-MODIFIED:20211121T144912Z
UID:10404-1642444200-1642455000@www.jewelenvy.ca
SUMMARY:8 Week Intermediate Fabrication level 2-6
DESCRIPTION:
URL:https://www.jewelenvy.ca/class/intermediate-fabrication-level-2-6/
LOCATION:Jewel Envy\, 151 Marion St\, Toronto\, Ontario\, M6R 1E6\, Canada
CATEGORIES:Classes
ORGANIZER;CN="Jewel Envy":MAILTO:info@jewelenvy.ca
END:VEVENT
END:VCALENDAR